BEGIN:VCALENDAR
METHOD:PUBLISH
VERSION:2.0
PRODID:-//IGD//IGD//IT
BEGIN:VEVENT
SUMMARY:Blocking period July/August 2018
UID:7104
DTSTART:20180703T220000Z
DTEND:20180703T220000Z
LAST-MODIFIED:20180626T000000Z
LOCATION:
END:VEVENT
BEGIN:VEVENT
SUMMARY:Blocking period July/August 2018
UID:7104
DTSTART:20180704T220000Z
DTEND:20180704T220000Z
LAST-MODIFIED:20180626T000000Z
LOCATION:
END:VEVENT
BEGIN:VEVENT
SUMMARY:Blocking period July/August 2018
UID:7104
DTSTART:20180705T220000Z
DTEND:20180705T220000Z
LAST-MODIFIED:20180626T000000Z
LOCATION:
END:VEVENT
BEGIN:VEVENT
SUMMARY:Blocking period July/August 2018
UID:7104
DTSTART:20180706T220000Z
DTEND:20180706T220000Z
LAST-MODIFIED:20180626T000000Z
LOCATION:
END:VEVENT
BEGIN:VEVENT
SUMMARY:Blocking period July/August 2018
UID:7104
DTSTART:20180707T220000Z
DTEND:20180707T220000Z
LAST-MODIFIED:20180626T000000Z
LOCATION:
END:VEVENT
BEGIN:VEVENT
SUMMARY:Blocking period July/August 2018
UID:7104
DTSTART:20180708T220000Z
DTEND:20180708T220000Z
LAST-MODIFIED:20180626T000000Z
LOCATION:
END:VEVENT
BEGIN:VEVENT
SUMMARY:Blocking period July/August 2018
UID:7104
DTSTART:20180709T220000Z
DTEND:20180709T220000Z
LAST-MODIFIED:20180626T000000Z
LOCATION:
END:VEVENT
BEGIN:VEVENT
SUMMARY:Blocking period July/August 2018
UID:7104
DTSTART:20180710T220000Z
DTEND:20180710T220000Z
LAST-MODIFIED:20180626T000000Z
LOCATION:
END:VEVENT
BEGIN:VEVENT
SUMMARY:Blocking period July/August 2018
UID:7104
DTSTART:20180711T220000Z
DTEND:20180711T220000Z
LAST-MODIFIED:20180626T000000Z
LOCATION:
END:VEVENT
BEGIN:VEVENT
SUMMARY:Blocking period July/August 2018
UID:7104
DTSTART:20180712T220000Z
DTEND:20180712T220000Z
LAST-MODIFIED:20180626T000000Z
LOCATION:
END:VEVENT
BEGIN:VEVENT
SUMMARY:Blocking period July/August 2018
UID:7104
DTSTART:20180713T220000Z
DTEND:20180713T220000Z
LAST-MODIFIED:20180626T000000Z
LOCATION:
END:VEVENT
BEGIN:VEVENT
SUMMARY:Blocking period July/August 2018
UID:7104
DTSTART:20180714T220000Z
DTEND:20180714T220000Z
LAST-MODIFIED:20180626T000000Z
LOCATION:
END:VEVENT
BEGIN:VEVENT
SUMMARY:Blocking period July/August 2018
UID:7104
DTSTART:20180715T220000Z
DTEND:20180715T220000Z
LAST-MODIFIED:20180626T000000Z
LOCATION:
END:VEVENT
BEGIN:VEVENT
SUMMARY:Blocking period July/August 2018
UID:7104
DTSTART:20180716T220000Z
DTEND:20180716T220000Z
LAST-MODIFIED:20180626T000000Z
LOCATION:
END:VEVENT
BEGIN:VEVENT
SUMMARY:Blocking period July/August 2018
UID:7104
DTSTART:20180717T220000Z
DTEND:20180717T220000Z
LAST-MODIFIED:20180626T000000Z
LOCATION:
END:VEVENT
BEGIN:VEVENT
SUMMARY:Blocking period July/August 2018
UID:7104
DTSTART:20180718T220000Z
DTEND:20180718T220000Z
LAST-MODIFIED:20180626T000000Z
LOCATION:
END:VEVENT
BEGIN:VEVENT
SUMMARY:Blocking period July/August 2018
UID:7104
DTSTART:20180719T220000Z
DTEND:20180719T220000Z
LAST-MODIFIED:20180626T000000Z
LOCATION:
END:VEVENT
BEGIN:VEVENT
SUMMARY:Blocking period July/August 2018
UID:7104
DTSTART:20180720T220000Z
DTEND:20180720T220000Z
LAST-MODIFIED:20180626T000000Z
LOCATION:
END:VEVENT
BEGIN:VEVENT
SUMMARY:Blocking period July/August 2018
UID:7104
DTSTART:20180721T220000Z
DTEND:20180721T220000Z
LAST-MODIFIED:20180626T000000Z
LOCATION:
END:VEVENT
BEGIN:VEVENT
SUMMARY:Blocking period July/August 2018
UID:7104
DTSTART:20180722T220000Z
DTEND:20180722T220000Z
LAST-MODIFIED:20180626T000000Z
LOCATION:
END:VEVENT
BEGIN:VEVENT
SUMMARY:Blocking period July/August 2018
UID:7104
DTSTART:20180723T220000Z
DTEND:20180723T220000Z
LAST-MODIFIED:20180626T000000Z
LOCATION:
END:VEVENT
BEGIN:VEVENT
SUMMARY:Blocking period July/August 2018
UID:7104
DTSTART:20180724T220000Z
DTEND:20180724T220000Z
LAST-MODIFIED:20180626T000000Z
LOCATION:
END:VEVENT
BEGIN:VEVENT
SUMMARY:Blocking period July/August 2018
UID:7104
DTSTART:20180725T220000Z
DTEND:20180725T220000Z
LAST-MODIFIED:20180626T000000Z
LOCATION:
END:VEVENT
BEGIN:VEVENT
SUMMARY:Blocking period July/August 2018
UID:7104
DTSTART:20180726T220000Z
DTEND:20180726T220000Z
LAST-MODIFIED:20180626T000000Z
LOCATION:
END:VEVENT
BEGIN:VEVENT
SUMMARY:Blocking period July/August 2018
UID:7104
DTSTART:20180727T220000Z
DTEND:20180727T220000Z
LAST-MODIFIED:20180626T000000Z
LOCATION:
END:VEVENT
BEGIN:VEVENT
SUMMARY:Blocking period July/August 2018
UID:7104
DTSTART:20180728T220000Z
DTEND:20180728T220000Z
LAST-MODIFIED:20180626T000000Z
LOCATION:
END:VEVENT
BEGIN:VEVENT
SUMMARY:Blocking period July/August 2018
UID:7104
DTSTART:20180729T220000Z
DTEND:20180729T220000Z
LAST-MODIFIED:20180626T000000Z
LOCATION:
END:VEVENT
BEGIN:VEVENT
SUMMARY:Blocking period July/August 2018
UID:7104
DTSTART:20180730T220000Z
DTEND:20180730T220000Z
LAST-MODIFIED:20180626T000000Z
LOCATION:
END:VEVENT
BEGIN:VEVENT
SUMMARY:Blocking period July/August 2018
UID:7104
DTSTART:20180731T220000Z
DTEND:20180731T220000Z
LAST-MODIFIED:20180626T000000Z
LOCATION:
END:VEVENT
BEGIN:VEVENT
SUMMARY:Blocking period July/August 2018
UID:7104
DTSTART:20180801T220000Z
DTEND:20180801T220000Z
LAST-MODIFIED:20180626T000000Z
LOCATION:
END:VEVENT
END:VCALENDAR