BEGIN:VCALENDAR
METHOD:PUBLISH
VERSION:2.0
PRODID:-//IGD//IGD//IT
BEGIN:VEVENT
SUMMARY:Blocking period October/November 2018
UID:7102
DTSTART:20181007T220000Z
DTEND:20181007T220000Z
LAST-MODIFIED:20180626T000000Z
LOCATION:
END:VEVENT
BEGIN:VEVENT
SUMMARY:Blocking period October/November 2018
UID:7102
DTSTART:20181008T220000Z
DTEND:20181008T220000Z
LAST-MODIFIED:20180626T000000Z
LOCATION:
END:VEVENT
BEGIN:VEVENT
SUMMARY:Blocking period October/November 2018
UID:7102
DTSTART:20181009T220000Z
DTEND:20181009T220000Z
LAST-MODIFIED:20180626T000000Z
LOCATION:
END:VEVENT
BEGIN:VEVENT
SUMMARY:Blocking period October/November 2018
UID:7102
DTSTART:20181010T220000Z
DTEND:20181010T220000Z
LAST-MODIFIED:20180626T000000Z
LOCATION:
END:VEVENT
BEGIN:VEVENT
SUMMARY:Blocking period October/November 2018
UID:7102
DTSTART:20181011T220000Z
DTEND:20181011T220000Z
LAST-MODIFIED:20180626T000000Z
LOCATION:
END:VEVENT
BEGIN:VEVENT
SUMMARY:Blocking period October/November 2018
UID:7102
DTSTART:20181012T220000Z
DTEND:20181012T220000Z
LAST-MODIFIED:20180626T000000Z
LOCATION:
END:VEVENT
BEGIN:VEVENT
SUMMARY:Blocking period October/November 2018
UID:7102
DTSTART:20181013T220000Z
DTEND:20181013T220000Z
LAST-MODIFIED:20180626T000000Z
LOCATION:
END:VEVENT
BEGIN:VEVENT
SUMMARY:Blocking period October/November 2018
UID:7102
DTSTART:20181014T220000Z
DTEND:20181014T220000Z
LAST-MODIFIED:20180626T000000Z
LOCATION:
END:VEVENT
BEGIN:VEVENT
SUMMARY:Blocking period October/November 2018
UID:7102
DTSTART:20181015T220000Z
DTEND:20181015T220000Z
LAST-MODIFIED:20180626T000000Z
LOCATION:
END:VEVENT
BEGIN:VEVENT
SUMMARY:Blocking period October/November 2018
UID:7102
DTSTART:20181016T220000Z
DTEND:20181016T220000Z
LAST-MODIFIED:20180626T000000Z
LOCATION:
END:VEVENT
BEGIN:VEVENT
SUMMARY:Blocking period October/November 2018
UID:7102
DTSTART:20181017T220000Z
DTEND:20181017T220000Z
LAST-MODIFIED:20180626T000000Z
LOCATION:
END:VEVENT
BEGIN:VEVENT
SUMMARY:Blocking period October/November 2018
UID:7102
DTSTART:20181018T220000Z
DTEND:20181018T220000Z
LAST-MODIFIED:20180626T000000Z
LOCATION:
END:VEVENT
BEGIN:VEVENT
SUMMARY:Blocking period October/November 2018
UID:7102
DTSTART:20181019T220000Z
DTEND:20181019T220000Z
LAST-MODIFIED:20180626T000000Z
LOCATION:
END:VEVENT
BEGIN:VEVENT
SUMMARY:Blocking period October/November 2018
UID:7102
DTSTART:20181020T220000Z
DTEND:20181020T220000Z
LAST-MODIFIED:20180626T000000Z
LOCATION:
END:VEVENT
BEGIN:VEVENT
SUMMARY:Blocking period October/November 2018
UID:7102
DTSTART:20181021T220000Z
DTEND:20181021T220000Z
LAST-MODIFIED:20180626T000000Z
LOCATION:
END:VEVENT
BEGIN:VEVENT
SUMMARY:Blocking period October/November 2018
UID:7102
DTSTART:20181022T220000Z
DTEND:20181022T220000Z
LAST-MODIFIED:20180626T000000Z
LOCATION:
END:VEVENT
BEGIN:VEVENT
SUMMARY:Blocking period October/November 2018
UID:7102
DTSTART:20181023T220000Z
DTEND:20181023T220000Z
LAST-MODIFIED:20180626T000000Z
LOCATION:
END:VEVENT
BEGIN:VEVENT
SUMMARY:Blocking period October/November 2018
UID:7102
DTSTART:20181024T220000Z
DTEND:20181024T220000Z
LAST-MODIFIED:20180626T000000Z
LOCATION:
END:VEVENT
BEGIN:VEVENT
SUMMARY:Blocking period October/November 2018
UID:7102
DTSTART:20181025T220000Z
DTEND:20181025T220000Z
LAST-MODIFIED:20180626T000000Z
LOCATION:
END:VEVENT
BEGIN:VEVENT
SUMMARY:Blocking period October/November 2018
UID:7102
DTSTART:20181026T220000Z
DTEND:20181026T220000Z
LAST-MODIFIED:20180626T000000Z
LOCATION:
END:VEVENT
BEGIN:VEVENT
SUMMARY:Blocking period October/November 2018
UID:7102
DTSTART:20181027T220000Z
DTEND:20181027T220000Z
LAST-MODIFIED:20180626T000000Z
LOCATION:
END:VEVENT
BEGIN:VEVENT
SUMMARY:Blocking period October/November 2018
UID:7102
DTSTART:20181028T230000Z
DTEND:20181028T230000Z
LAST-MODIFIED:20180626T000000Z
LOCATION:
END:VEVENT
BEGIN:VEVENT
SUMMARY:Blocking period October/November 2018
UID:7102
DTSTART:20181029T230000Z
DTEND:20181029T230000Z
LAST-MODIFIED:20180626T000000Z
LOCATION:
END:VEVENT
BEGIN:VEVENT
SUMMARY:Blocking period October/November 2018
UID:7102
DTSTART:20181030T230000Z
DTEND:20181030T230000Z
LAST-MODIFIED:20180626T000000Z
LOCATION:
END:VEVENT
BEGIN:VEVENT
SUMMARY:Blocking period October/November 2018
UID:7102
DTSTART:20181031T230000Z
DTEND:20181031T230000Z
LAST-MODIFIED:20180626T000000Z
LOCATION:
END:VEVENT
BEGIN:VEVENT
SUMMARY:Blocking period October/November 2018
UID:7102
DTSTART:20181101T230000Z
DTEND:20181101T230000Z
LAST-MODIFIED:20180626T000000Z
LOCATION:
END:VEVENT
BEGIN:VEVENT
SUMMARY:Blocking period October/November 2018
UID:7102
DTSTART:20181102T230000Z
DTEND:20181102T230000Z
LAST-MODIFIED:20180626T000000Z
LOCATION:
END:VEVENT
BEGIN:VEVENT
SUMMARY:Blocking period October/November 2018
UID:7102
DTSTART:20181103T230000Z
DTEND:20181103T230000Z
LAST-MODIFIED:20180626T000000Z
LOCATION:
END:VEVENT
BEGIN:VEVENT
SUMMARY:Blocking period October/November 2018
UID:7102
DTSTART:20181104T230000Z
DTEND:20181104T230000Z
LAST-MODIFIED:20180626T000000Z
LOCATION:
END:VEVENT
BEGIN:VEVENT
SUMMARY:Blocking period October/November 2018
UID:7102
DTSTART:20181105T230000Z
DTEND:20181105T230000Z
LAST-MODIFIED:20180626T000000Z
LOCATION:
END:VEVENT
END:VCALENDAR