BEGIN:VCALENDAR
METHOD:PUBLISH
VERSION:2.0
PRODID:-//IGD//IGD//IT
BEGIN:VEVENT
SUMMARY:Conference call to present the 2019-2021 Strategic Plan and the results as at 30 September 2018
UID:7100
DTSTART:20181107T140000Z
DTEND:20181107T140000Z
LAST-MODIFIED:20181105T000000Z
LOCATION:Bologna
END:VEVENT
END:VCALENDAR