BEGIN:VCALENDAR
METHOD:PUBLISH
VERSION:2.0
PRODID:-//IGD//IGD//IT
BEGIN:VEVENT
SUMMARY:2017 STAR Conference London
UID:7098
DTSTART:20171009T220000Z
DTEND:20171009T220000Z
LAST-MODIFIED:20180626T000000Z
LOCATION:London
END:VEVENT
END:VCALENDAR