BEGIN:VCALENDAR
METHOD:PUBLISH
VERSION:2.0
PRODID:-//IGD//IGD//IT
BEGIN:VEVENT
SUMMARY:2017 Pan European Real Estate Conference
UID:7096
DTSTART:20170928T220000Z
DTEND:20170928T220000Z
LAST-MODIFIED:20180626T000000Z
LOCATION:London
END:VEVENT
END:VCALENDAR