BEGIN:VCALENDAR
METHOD:PUBLISH
VERSION:2.0
PRODID:-//IGD//IGD//IT
BEGIN:VEVENT
SUMMARY:Blocking period January/February 2018
UID:7095
DTSTART:20180122T230000Z
DTEND:20180122T230000Z
LAST-MODIFIED:20180626T000000Z
LOCATION:
END:VEVENT
BEGIN:VEVENT
SUMMARY:Blocking period January/February 2018
UID:7095
DTSTART:20180123T230000Z
DTEND:20180123T230000Z
LAST-MODIFIED:20180626T000000Z
LOCATION:
END:VEVENT
BEGIN:VEVENT
SUMMARY:Blocking period January/February 2018
UID:7095
DTSTART:20180124T230000Z
DTEND:20180124T230000Z
LAST-MODIFIED:20180626T000000Z
LOCATION:
END:VEVENT
BEGIN:VEVENT
SUMMARY:Blocking period January/February 2018
UID:7095
DTSTART:20180125T230000Z
DTEND:20180125T230000Z
LAST-MODIFIED:20180626T000000Z
LOCATION:
END:VEVENT
BEGIN:VEVENT
SUMMARY:Blocking period January/February 2018
UID:7095
DTSTART:20180126T230000Z
DTEND:20180126T230000Z
LAST-MODIFIED:20180626T000000Z
LOCATION:
END:VEVENT
BEGIN:VEVENT
SUMMARY:Blocking period January/February 2018
UID:7095
DTSTART:20180127T230000Z
DTEND:20180127T230000Z
LAST-MODIFIED:20180626T000000Z
LOCATION:
END:VEVENT
BEGIN:VEVENT
SUMMARY:Blocking period January/February 2018
UID:7095
DTSTART:20180128T230000Z
DTEND:20180128T230000Z
LAST-MODIFIED:20180626T000000Z
LOCATION:
END:VEVENT
BEGIN:VEVENT
SUMMARY:Blocking period January/February 2018
UID:7095
DTSTART:20180129T230000Z
DTEND:20180129T230000Z
LAST-MODIFIED:20180626T000000Z
LOCATION:
END:VEVENT
BEGIN:VEVENT
SUMMARY:Blocking period January/February 2018
UID:7095
DTSTART:20180130T230000Z
DTEND:20180130T230000Z
LAST-MODIFIED:20180626T000000Z
LOCATION:
END:VEVENT
BEGIN:VEVENT
SUMMARY:Blocking period January/February 2018
UID:7095
DTSTART:20180131T230000Z
DTEND:20180131T230000Z
LAST-MODIFIED:20180626T000000Z
LOCATION:
END:VEVENT
BEGIN:VEVENT
SUMMARY:Blocking period January/February 2018
UID:7095
DTSTART:20180201T230000Z
DTEND:20180201T230000Z
LAST-MODIFIED:20180626T000000Z
LOCATION:
END:VEVENT
BEGIN:VEVENT
SUMMARY:Blocking period January/February 2018
UID:7095
DTSTART:20180202T230000Z
DTEND:20180202T230000Z
LAST-MODIFIED:20180626T000000Z
LOCATION:
END:VEVENT
BEGIN:VEVENT
SUMMARY:Blocking period January/February 2018
UID:7095
DTSTART:20180203T230000Z
DTEND:20180203T230000Z
LAST-MODIFIED:20180626T000000Z
LOCATION:
END:VEVENT
BEGIN:VEVENT
SUMMARY:Blocking period January/February 2018
UID:7095
DTSTART:20180204T230000Z
DTEND:20180204T230000Z
LAST-MODIFIED:20180626T000000Z
LOCATION:
END:VEVENT
BEGIN:VEVENT
SUMMARY:Blocking period January/February 2018
UID:7095
DTSTART:20180205T230000Z
DTEND:20180205T230000Z
LAST-MODIFIED:20180626T000000Z
LOCATION:
END:VEVENT
BEGIN:VEVENT
SUMMARY:Blocking period January/February 2018
UID:7095
DTSTART:20180206T230000Z
DTEND:20180206T230000Z
LAST-MODIFIED:20180626T000000Z
LOCATION:
END:VEVENT
BEGIN:VEVENT
SUMMARY:Blocking period January/February 2018
UID:7095
DTSTART:20180207T230000Z
DTEND:20180207T230000Z
LAST-MODIFIED:20180626T000000Z
LOCATION:
END:VEVENT
BEGIN:VEVENT
SUMMARY:Blocking period January/February 2018
UID:7095
DTSTART:20180208T230000Z
DTEND:20180208T230000Z
LAST-MODIFIED:20180626T000000Z
LOCATION:
END:VEVENT
BEGIN:VEVENT
SUMMARY:Blocking period January/February 2018
UID:7095
DTSTART:20180209T230000Z
DTEND:20180209T230000Z
LAST-MODIFIED:20180626T000000Z
LOCATION:
END:VEVENT
BEGIN:VEVENT
SUMMARY:Blocking period January/February 2018
UID:7095
DTSTART:20180210T230000Z
DTEND:20180210T230000Z
LAST-MODIFIED:20180626T000000Z
LOCATION:
END:VEVENT
BEGIN:VEVENT
SUMMARY:Blocking period January/February 2018
UID:7095
DTSTART:20180211T230000Z
DTEND:20180211T230000Z
LAST-MODIFIED:20180626T000000Z
LOCATION:
END:VEVENT
BEGIN:VEVENT
SUMMARY:Blocking period January/February 2018
UID:7095
DTSTART:20180212T230000Z
DTEND:20180212T230000Z
LAST-MODIFIED:20180626T000000Z
LOCATION:
END:VEVENT
BEGIN:VEVENT
SUMMARY:Blocking period January/February 2018
UID:7095
DTSTART:20180213T230000Z
DTEND:20180213T230000Z
LAST-MODIFIED:20180626T000000Z
LOCATION:
END:VEVENT
BEGIN:VEVENT
SUMMARY:Blocking period January/February 2018
UID:7095
DTSTART:20180214T230000Z
DTEND:20180214T230000Z
LAST-MODIFIED:20180626T000000Z
LOCATION:
END:VEVENT
BEGIN:VEVENT
SUMMARY:Blocking period January/February 2018
UID:7095
DTSTART:20180215T230000Z
DTEND:20180215T230000Z
LAST-MODIFIED:20180626T000000Z
LOCATION:
END:VEVENT
BEGIN:VEVENT
SUMMARY:Blocking period January/February 2018
UID:7095
DTSTART:20180216T230000Z
DTEND:20180216T230000Z
LAST-MODIFIED:20180626T000000Z
LOCATION:
END:VEVENT
BEGIN:VEVENT
SUMMARY:Blocking period January/February 2018
UID:7095
DTSTART:20180217T230000Z
DTEND:20180217T230000Z
LAST-MODIFIED:20180626T000000Z
LOCATION:
END:VEVENT
BEGIN:VEVENT
SUMMARY:Blocking period January/February 2018
UID:7095
DTSTART:20180218T230000Z
DTEND:20180218T230000Z
LAST-MODIFIED:20180626T000000Z
LOCATION:
END:VEVENT
BEGIN:VEVENT
SUMMARY:Blocking period January/February 2018
UID:7095
DTSTART:20180219T230000Z
DTEND:20180219T230000Z
LAST-MODIFIED:20180626T000000Z
LOCATION:
END:VEVENT
BEGIN:VEVENT
SUMMARY:Blocking period January/February 2018
UID:7095
DTSTART:20180220T230000Z
DTEND:20180220T230000Z
LAST-MODIFIED:20180626T000000Z
LOCATION:
END:VEVENT
END:VCALENDAR