BEGIN:VCALENDAR
METHOD:PUBLISH
VERSION:2.0
PRODID:-//IGD//IGD//IT
BEGIN:VEVENT
SUMMARY:2017 ISMO &#8211; Italian Stock Market Opportunities
UID:7092
DTSTART:20170920T220000Z
DTEND:20170920T220000Z
LAST-MODIFIED:20180626T000000Z
LOCATION:Milan
END:VEVENT
END:VCALENDAR