BEGIN:VCALENDAR
METHOD:PUBLISH
VERSION:2.0
PRODID:-//IGD//IGD//IT
BEGIN:VEVENT
SUMMARY:Banca IMI Roadshow
UID:7091
DTSTART:20170328T220000Z
DTEND:20170328T220000Z
LAST-MODIFIED:20180626T000000Z
LOCATION:Luxembourg, Brussels
END:VEVENT
BEGIN:VEVENT
SUMMARY:Banca IMI Roadshow
UID:7091
DTSTART:20170329T220000Z
DTEND:20170329T220000Z
LAST-MODIFIED:20180626T000000Z
LOCATION:Luxembourg, Brussels
END:VEVENT
END:VCALENDAR