BEGIN:VCALENDAR
METHOD:PUBLISH
VERSION:2.0
PRODID:-//IGD//IGD//IT
BEGIN:VEVENT
SUMMARY:Kepler-Cheuvreux Roadshow
UID:7090
DTSTART:20170403T220000Z
DTEND:20170403T220000Z
LAST-MODIFIED:20180626T000000Z
LOCATION:Paris, Amsterdam
END:VEVENT
BEGIN:VEVENT
SUMMARY:Kepler-Cheuvreux Roadshow
UID:7090
DTSTART:20170404T220000Z
DTEND:20170404T220000Z
LAST-MODIFIED:20180626T000000Z
LOCATION:Paris, Amsterdam
END:VEVENT
END:VCALENDAR