BEGIN:VCALENDAR
METHOD:PUBLISH
VERSION:2.0
PRODID:-//IGD//IGD//IT
BEGIN:VEVENT
SUMMARY:2017 STAR Conference Milan
UID:7089
DTSTART:20170320T230000Z
DTEND:20170320T230000Z
LAST-MODIFIED:20180626T000000Z
LOCATION:Milan
END:VEVENT
END:VCALENDAR