BEGIN:VCALENDAR
METHOD:PUBLISH
VERSION:2.0
PRODID:-//IGD//IGD//IT
BEGIN:VEVENT
SUMMARY:Conference call to present the results as at 31 December 2016
UID:7088
DTSTART:20170227T230000Z
DTEND:20170227T230000Z
LAST-MODIFIED:20180626T000000Z
LOCATION:Bologna
END:VEVENT
END:VCALENDAR