BEGIN:VCALENDAR
METHOD:PUBLISH
VERSION:2.0
PRODID:-//IGD//IGD//IT
BEGIN:VEVENT
SUMMARY:ISMO &#8211; Italian Stock Market Opportunities 2017 Paris
UID:7085
DTSTART:20170516T220000Z
DTEND:20170516T220000Z
LAST-MODIFIED:20180626T000000Z
LOCATION:Paris
END:VEVENT
END:VCALENDAR