BEGIN:VCALENDAR
METHOD:PUBLISH
VERSION:2.0
PRODID:-//IGD//IGD//IT
BEGIN:VEVENT
SUMMARY:Jefferies Roadshow
UID:7084
DTSTART:20170117T230000Z
DTEND:20170117T230000Z
LAST-MODIFIED:20180626T000000Z
LOCATION:Copenaghen, Helsinki, Stockholm
END:VEVENT
BEGIN:VEVENT
SUMMARY:Jefferies Roadshow
UID:7084
DTSTART:20170118T230000Z
DTEND:20170118T230000Z
LAST-MODIFIED:20180626T000000Z
LOCATION:Copenaghen, Helsinki, Stockholm
END:VEVENT
END:VCALENDAR