BEGIN:VCALENDAR
METHOD:PUBLISH
VERSION:2.0
PRODID:-//IGD//IGD//IT
BEGIN:VEVENT
SUMMARY:Italian Investment Conference 2017
UID:7083
DTSTART:20170523T220000Z
DTEND:20170523T220000Z
LAST-MODIFIED:20180626T000000Z
LOCATION:Milan
END:VEVENT
END:VCALENDAR