BEGIN:VCALENDAR
METHOD:PUBLISH
VERSION:2.0
PRODID:-//IGD//IGD//IT
BEGIN:VEVENT
SUMMARY:2017 Investor Day
UID:7082
DTSTART:20170613T220000Z
DTEND:20170613T220000Z
LAST-MODIFIED:20180626T000000Z
LOCATION:Bologna
END:VEVENT
BEGIN:VEVENT
SUMMARY:2017 Investor Day
UID:7082
DTSTART:20170614T220000Z
DTEND:20170614T220000Z
LAST-MODIFIED:20180626T000000Z
LOCATION:Bologna
END:VEVENT
END:VCALENDAR