BEGIN:VCALENDAR
METHOD:PUBLISH
VERSION:2.0
PRODID:-//IGD//IGD//IT
BEGIN:VEVENT
SUMMARY:2017 Italian Sustainability Day
UID:7081
DTSTART:20170709T220000Z
DTEND:20170709T220000Z
LAST-MODIFIED:20180626T000000Z
LOCATION:Milan
END:VEVENT
END:VCALENDAR