BEGIN:VCALENDAR
METHOD:PUBLISH
VERSION:2.0
PRODID:-//IGD//IGD//IT
BEGIN:VEVENT
SUMMARY:EPRA Conference 2017
UID:7080
DTSTART:20170904T220000Z
DTEND:20170904T220000Z
LAST-MODIFIED:20180626T000000Z
LOCATION:London
END:VEVENT
BEGIN:VEVENT
SUMMARY:EPRA Conference 2017
UID:7080
DTSTART:20170905T220000Z
DTEND:20170905T220000Z
LAST-MODIFIED:20180626T000000Z
LOCATION:London
END:VEVENT
BEGIN:VEVENT
SUMMARY:EPRA Conference 2017
UID:7080
DTSTART:20170906T220000Z
DTEND:20170906T220000Z
LAST-MODIFIED:20180626T000000Z
LOCATION:London
END:VEVENT
END:VCALENDAR