BEGIN:VCALENDAR
METHOD:PUBLISH
VERSION:2.0
PRODID:-//IGD//IGD//IT
BEGIN:VEVENT
SUMMARY:Italian Equity Roadshow London 2017
UID:7079
DTSTART:20170115T230000Z
DTEND:20170115T230000Z
LAST-MODIFIED:20180626T000000Z
LOCATION:London
END:VEVENT
BEGIN:VEVENT
SUMMARY:Italian Equity Roadshow London 2017
UID:7079
DTSTART:20170116T230000Z
DTEND:20170116T230000Z
LAST-MODIFIED:20180626T000000Z
LOCATION:London
END:VEVENT
END:VCALENDAR