BEGIN:VCALENDAR
METHOD:PUBLISH
VERSION:2.0
PRODID:-//IGD//IGD//IT
BEGIN:VEVENT
SUMMARY:2018 STAR Conference
UID:7076
DTSTART:20180326T220000Z
DTEND:20180326T220000Z
LAST-MODIFIED:20180626T000000Z
LOCATION:Milan
END:VEVENT
END:VCALENDAR