BEGIN:VCALENDAR
METHOD:PUBLISH
VERSION:2.0
PRODID:-//IGD//IGD//IT
BEGIN:VEVENT
SUMMARY:Italian Stock Exchange: closing day on 2 April 2018
UID:7075
DTSTART:20180401T220000Z
DTEND:20180401T220000Z
LAST-MODIFIED:20180626T000000Z
LOCATION:
END:VEVENT
END:VCALENDAR