BEGIN:VCALENDAR
METHOD:PUBLISH
VERSION:2.0
PRODID:-//IGD//IGD//IT
BEGIN:VEVENT
SUMMARY:Italian Stock Exchange: closing days on 24-26 December 2018
UID:7072
DTSTART:20181223T230000Z
DTEND:20181223T230000Z
LAST-MODIFIED:20180626T000000Z
LOCATION:
END:VEVENT
BEGIN:VEVENT
SUMMARY:Italian Stock Exchange: closing days on 24-26 December 2018
UID:7072
DTSTART:20181224T230000Z
DTEND:20181224T230000Z
LAST-MODIFIED:20180626T000000Z
LOCATION:
END:VEVENT
BEGIN:VEVENT
SUMMARY:Italian Stock Exchange: closing days on 24-26 December 2018
UID:7072
DTSTART:20181225T230000Z
DTEND:20181225T230000Z
LAST-MODIFIED:20180626T000000Z
LOCATION:
END:VEVENT
END:VCALENDAR