BEGIN:VCALENDAR
METHOD:PUBLISH
VERSION:2.0
PRODID:-//IGD//IGD//IT
BEGIN:VEVENT
SUMMARY:Blocking period April/May 2018
UID:7070
DTSTART:20180408T220000Z
DTEND:20180408T220000Z
LAST-MODIFIED:20180626T000000Z
LOCATION:
END:VEVENT
BEGIN:VEVENT
SUMMARY:Blocking period April/May 2018
UID:7070
DTSTART:20180409T220000Z
DTEND:20180409T220000Z
LAST-MODIFIED:20180626T000000Z
LOCATION:
END:VEVENT
BEGIN:VEVENT
SUMMARY:Blocking period April/May 2018
UID:7070
DTSTART:20180410T220000Z
DTEND:20180410T220000Z
LAST-MODIFIED:20180626T000000Z
LOCATION:
END:VEVENT
BEGIN:VEVENT
SUMMARY:Blocking period April/May 2018
UID:7070
DTSTART:20180411T220000Z
DTEND:20180411T220000Z
LAST-MODIFIED:20180626T000000Z
LOCATION:
END:VEVENT
BEGIN:VEVENT
SUMMARY:Blocking period April/May 2018
UID:7070
DTSTART:20180412T220000Z
DTEND:20180412T220000Z
LAST-MODIFIED:20180626T000000Z
LOCATION:
END:VEVENT
BEGIN:VEVENT
SUMMARY:Blocking period April/May 2018
UID:7070
DTSTART:20180413T220000Z
DTEND:20180413T220000Z
LAST-MODIFIED:20180626T000000Z
LOCATION:
END:VEVENT
BEGIN:VEVENT
SUMMARY:Blocking period April/May 2018
UID:7070
DTSTART:20180414T220000Z
DTEND:20180414T220000Z
LAST-MODIFIED:20180626T000000Z
LOCATION:
END:VEVENT
BEGIN:VEVENT
SUMMARY:Blocking period April/May 2018
UID:7070
DTSTART:20180415T220000Z
DTEND:20180415T220000Z
LAST-MODIFIED:20180626T000000Z
LOCATION:
END:VEVENT
BEGIN:VEVENT
SUMMARY:Blocking period April/May 2018
UID:7070
DTSTART:20180416T220000Z
DTEND:20180416T220000Z
LAST-MODIFIED:20180626T000000Z
LOCATION:
END:VEVENT
BEGIN:VEVENT
SUMMARY:Blocking period April/May 2018
UID:7070
DTSTART:20180417T220000Z
DTEND:20180417T220000Z
LAST-MODIFIED:20180626T000000Z
LOCATION:
END:VEVENT
BEGIN:VEVENT
SUMMARY:Blocking period April/May 2018
UID:7070
DTSTART:20180418T220000Z
DTEND:20180418T220000Z
LAST-MODIFIED:20180626T000000Z
LOCATION:
END:VEVENT
BEGIN:VEVENT
SUMMARY:Blocking period April/May 2018
UID:7070
DTSTART:20180419T220000Z
DTEND:20180419T220000Z
LAST-MODIFIED:20180626T000000Z
LOCATION:
END:VEVENT
BEGIN:VEVENT
SUMMARY:Blocking period April/May 2018
UID:7070
DTSTART:20180420T220000Z
DTEND:20180420T220000Z
LAST-MODIFIED:20180626T000000Z
LOCATION:
END:VEVENT
BEGIN:VEVENT
SUMMARY:Blocking period April/May 2018
UID:7070
DTSTART:20180421T220000Z
DTEND:20180421T220000Z
LAST-MODIFIED:20180626T000000Z
LOCATION:
END:VEVENT
BEGIN:VEVENT
SUMMARY:Blocking period April/May 2018
UID:7070
DTSTART:20180422T220000Z
DTEND:20180422T220000Z
LAST-MODIFIED:20180626T000000Z
LOCATION:
END:VEVENT
BEGIN:VEVENT
SUMMARY:Blocking period April/May 2018
UID:7070
DTSTART:20180423T220000Z
DTEND:20180423T220000Z
LAST-MODIFIED:20180626T000000Z
LOCATION:
END:VEVENT
BEGIN:VEVENT
SUMMARY:Blocking period April/May 2018
UID:7070
DTSTART:20180424T220000Z
DTEND:20180424T220000Z
LAST-MODIFIED:20180626T000000Z
LOCATION:
END:VEVENT
BEGIN:VEVENT
SUMMARY:Blocking period April/May 2018
UID:7070
DTSTART:20180425T220000Z
DTEND:20180425T220000Z
LAST-MODIFIED:20180626T000000Z
LOCATION:
END:VEVENT
BEGIN:VEVENT
SUMMARY:Blocking period April/May 2018
UID:7070
DTSTART:20180426T220000Z
DTEND:20180426T220000Z
LAST-MODIFIED:20180626T000000Z
LOCATION:
END:VEVENT
BEGIN:VEVENT
SUMMARY:Blocking period April/May 2018
UID:7070
DTSTART:20180427T220000Z
DTEND:20180427T220000Z
LAST-MODIFIED:20180626T000000Z
LOCATION:
END:VEVENT
BEGIN:VEVENT
SUMMARY:Blocking period April/May 2018
UID:7070
DTSTART:20180428T220000Z
DTEND:20180428T220000Z
LAST-MODIFIED:20180626T000000Z
LOCATION:
END:VEVENT
BEGIN:VEVENT
SUMMARY:Blocking period April/May 2018
UID:7070
DTSTART:20180429T220000Z
DTEND:20180429T220000Z
LAST-MODIFIED:20180626T000000Z
LOCATION:
END:VEVENT
BEGIN:VEVENT
SUMMARY:Blocking period April/May 2018
UID:7070
DTSTART:20180430T220000Z
DTEND:20180430T220000Z
LAST-MODIFIED:20180626T000000Z
LOCATION:
END:VEVENT
BEGIN:VEVENT
SUMMARY:Blocking period April/May 2018
UID:7070
DTSTART:20180501T220000Z
DTEND:20180501T220000Z
LAST-MODIFIED:20180626T000000Z
LOCATION:
END:VEVENT
BEGIN:VEVENT
SUMMARY:Blocking period April/May 2018
UID:7070
DTSTART:20180502T220000Z
DTEND:20180502T220000Z
LAST-MODIFIED:20180626T000000Z
LOCATION:
END:VEVENT
BEGIN:VEVENT
SUMMARY:Blocking period April/May 2018
UID:7070
DTSTART:20180503T220000Z
DTEND:20180503T220000Z
LAST-MODIFIED:20180626T000000Z
LOCATION:
END:VEVENT
BEGIN:VEVENT
SUMMARY:Blocking period April/May 2018
UID:7070
DTSTART:20180504T220000Z
DTEND:20180504T220000Z
LAST-MODIFIED:20180626T000000Z
LOCATION:
END:VEVENT
BEGIN:VEVENT
SUMMARY:Blocking period April/May 2018
UID:7070
DTSTART:20180505T220000Z
DTEND:20180505T220000Z
LAST-MODIFIED:20180626T000000Z
LOCATION:
END:VEVENT
BEGIN:VEVENT
SUMMARY:Blocking period April/May 2018
UID:7070
DTSTART:20180506T220000Z
DTEND:20180506T220000Z
LAST-MODIFIED:20180626T000000Z
LOCATION:
END:VEVENT
BEGIN:VEVENT
SUMMARY:Blocking period April/May 2018
UID:7070
DTSTART:20180507T220000Z
DTEND:20180507T220000Z
LAST-MODIFIED:20180626T000000Z
LOCATION:
END:VEVENT
END:VCALENDAR