BEGIN:VCALENDAR
METHOD:PUBLISH
VERSION:2.0
PRODID:-//IGD//IGD//IT
BEGIN:VEVENT
SUMMARY:Board of Director 22 February 2018
UID:7064
DTSTART:20180222T090000Z
DTEND:20180222T090000Z
LAST-MODIFIED:20180626T000000Z
LOCATION:Bologna
END:VEVENT
END:VCALENDAR