BEGIN:VCALENDAR
METHOD:PUBLISH
VERSION:2.0
PRODID:-//IGD//IGD//IT
BEGIN:VEVENT
SUMMARY:Board of Directors 9 May 2018
UID:7063
DTSTART:20180509T080000Z
DTEND:20180509T080000Z
LAST-MODIFIED:20180626T000000Z
LOCATION:Bologna
END:VEVENT
END:VCALENDAR