BEGIN:VCALENDAR
METHOD:PUBLISH
VERSION:2.0
PRODID:-//IGD//IGD//IT
BEGIN:VEVENT
SUMMARY:Board of Directors 7 November 2018
UID:7059
DTSTART:20181107T090000Z
DTEND:20181107T090000Z
LAST-MODIFIED:20180626T000000Z
LOCATION:Bologna
END:VEVENT
END:VCALENDAR