BEGIN:VCALENDAR
METHOD:PUBLISH
VERSION:2.0
PRODID:-//IGD//IGD//IT
BEGIN:VEVENT
SUMMARY:Roadshow KBC Securities &#038; Banca Akros
UID:69229
DTSTART:20260422T220000Z
DTEND:20260422T220000Z
LAST-MODIFIED:20260408T000000Z
LOCATION:London
END:VEVENT
END:VCALENDAR