BEGIN:VCALENDAR
METHOD:PUBLISH
VERSION:2.0
PRODID:-//IGD//IGD//IT
BEGIN:VEVENT
SUMMARY:Northern Midcap Event
UID:68921
DTSTART:20260518T220000Z
DTEND:20260518T220000Z
LAST-MODIFIED:20260330T000000Z
LOCATION:Virtual
END:VEVENT
END:VCALENDAR