BEGIN:VCALENDAR
METHOD:PUBLISH
VERSION:2.0
PRODID:-//IGD//IGD//IT
BEGIN:VEVENT
SUMMARY:Goldman Sachs Real Estate Equity and Debt Conference 2026
UID:68682
DTSTART:20260902T220000Z
DTEND:20260902T220000Z
LAST-MODIFIED:20260303T000000Z
LOCATION:London
END:VEVENT
END:VCALENDAR