BEGIN:VCALENDAR
METHOD:PUBLISH
VERSION:2.0
PRODID:-//IGD//IGD//IT
BEGIN:VEVENT
SUMMARY:2026 dividend payment
UID:68675
DTSTART:20260505T220000Z
DTEND:20260505T220000Z
LAST-MODIFIED:20260302T000000Z
LOCATION:
END:VEVENT
END:VCALENDAR