BEGIN:VCALENDAR
METHOD:PUBLISH
VERSION:2.0
PRODID:-//IGD//IGD//IT
BEGIN:VEVENT
SUMMARY:Record date 2026 dividend
UID:68671
DTSTART:20260504T220000Z
DTEND:20260504T220000Z
LAST-MODIFIED:20260302T000000Z
LOCATION:
END:VEVENT
END:VCALENDAR