BEGIN:VCALENDAR
METHOD:PUBLISH
VERSION:2.0
PRODID:-//IGD//IGD//IT
BEGIN:VEVENT
SUMMARY:Going ex-dividend 2026
UID:68667
DTSTART:20260503T220000Z
DTEND:20260503T220000Z
LAST-MODIFIED:20260302T000000Z
LOCATION:
END:VEVENT
END:VCALENDAR