BEGIN:VCALENDAR
METHOD:PUBLISH
VERSION:2.0
PRODID:-//IGD//IGD//IT
BEGIN:VEVENT
SUMMARY:EPRA Conference 2026
UID:68481
DTSTART:20260907T220000Z
DTEND:20260907T220000Z
LAST-MODIFIED:20260225T000000Z
LOCATION:Milan
END:VEVENT
BEGIN:VEVENT
SUMMARY:EPRA Conference 2026
UID:68481
DTSTART:20260908T220000Z
DTEND:20260908T220000Z
LAST-MODIFIED:20260225T000000Z
LOCATION:Milan
END:VEVENT
BEGIN:VEVENT
SUMMARY:EPRA Conference 2026
UID:68481
DTSTART:20260909T220000Z
DTEND:20260909T220000Z
LAST-MODIFIED:20260225T000000Z
LOCATION:Milan
END:VEVENT
END:VCALENDAR