BEGIN:VCALENDAR
METHOD:PUBLISH
VERSION:2.0
PRODID:-//IGD//IGD//IT
BEGIN:VEVENT
SUMMARY:Morgan Stanley European Real Estate Capital Markets Conference 2026
UID:68476
DTSTART:20260609T220000Z
DTEND:20260609T220000Z
LAST-MODIFIED:20260225T000000Z
LOCATION:London
END:VEVENT
END:VCALENDAR