BEGIN:VCALENDAR
METHOD:PUBLISH
VERSION:2.0
PRODID:-//IGD//IGD//IT
BEGIN:VEVENT
SUMMARY:European Real Estate Seminar 2026 &#8211; Van Lanschot Kempen
UID:68472
DTSTART:20260519T220000Z
DTEND:20260519T220000Z
LAST-MODIFIED:20260225T000000Z
LOCATION:Amsterdam
END:VEVENT
END:VCALENDAR