BEGIN:VCALENDAR
METHOD:PUBLISH
VERSION:2.0
PRODID:-//IGD//IGD//IT
BEGIN:VEVENT
SUMMARY:Mid &#038; Small Paris 2026 Conference
UID:68465
DTSTART:20260317T230000Z
DTEND:20260317T230000Z
LAST-MODIFIED:20260316T000000Z
LOCATION:Paris
END:VEVENT
END:VCALENDAR