BEGIN:VCALENDAR
METHOD:PUBLISH
VERSION:2.0
PRODID:-//IGD//IGD//IT
BEGIN:VEVENT
SUMMARY:Euronext STAR Conference 2026 – Borsa Italiana
UID:68056
DTSTART:20260324T230000Z
DTEND:20260324T230000Z
LAST-MODIFIED:20260310T000000Z
LOCATION:Milan
END:VEVENT
END:VCALENDAR