BEGIN:VCALENDAR
METHOD:PUBLISH
VERSION:2.0
PRODID:-//IGD//IGD//IT
BEGIN:VEVENT
SUMMARY:Conference call to present the results as at 31 December 2025 – dial-in details
UID:68049
DTSTART:20260225T230000Z
DTEND:20260225T230000Z
LAST-MODIFIED:20260227T000000Z
LOCATION:
END:VEVENT
END:VCALENDAR