BEGIN:VCALENDAR
METHOD:PUBLISH
VERSION:2.0
PRODID:-//IGD//IGD//IT
BEGIN:VEVENT
SUMMARY:Appuntamento alle Colonne 2026
UID:67735
DTSTART:20260202T230000Z
DTEND:20260202T230000Z
LAST-MODIFIED:20260204T000000Z
LOCATION:Milan
END:VEVENT
END:VCALENDAR