BEGIN:VCALENDAR
METHOD:PUBLISH
VERSION:2.0
PRODID:-//IGD//IGD//IT
BEGIN:VEVENT
SUMMARY:Mediobanca Italian Mid Cap Conference 2026
UID:67731
DTSTART:20260120T230000Z
DTEND:20260120T230000Z
LAST-MODIFIED:20260121T000000Z
LOCATION:Milano
END:VEVENT
END:VCALENDAR