BEGIN:VCALENDAR
METHOD:PUBLISH
VERSION:2.0
PRODID:-//IGD//IGD//IT
BEGIN:VEVENT
SUMMARY:MAPIC Cannes 2026
UID:67727
DTSTART:20261102T230000Z
DTEND:20261102T230000Z
LAST-MODIFIED:20260114T000000Z
LOCATION:Cannes, France, Palais des Festivals
END:VEVENT
BEGIN:VEVENT
SUMMARY:MAPIC Cannes 2026
UID:67727
DTSTART:20261103T230000Z
DTEND:20261103T230000Z
LAST-MODIFIED:20260114T000000Z
LOCATION:Cannes, France, Palais des Festivals
END:VEVENT
END:VCALENDAR