BEGIN:VCALENDAR
METHOD:PUBLISH
VERSION:2.0
PRODID:-//IGD//IGD//IT
BEGIN:VEVENT
SUMMARY:MAPIC Italy 2026
UID:67723
DTSTART:20260526T220000Z
DTEND:20260526T220000Z
LAST-MODIFIED:20260114T000000Z
LOCATION:Milan, Rho Fiera Milano
END:VEVENT
BEGIN:VEVENT
SUMMARY:MAPIC Italy 2026
UID:67723
DTSTART:20260527T220000Z
DTEND:20260527T220000Z
LAST-MODIFIED:20260114T000000Z
LOCATION:Milan, Rho Fiera Milano
END:VEVENT
END:VCALENDAR