BEGIN:VCALENDAR
METHOD:PUBLISH
VERSION:2.0
PRODID:-//IGD//IGD//IT
BEGIN:VEVENT
SUMMARY:Board of Directors of 7 May 2026
UID:67718
DTSTART:20260507T080000Z
DTEND:20260507T080000Z
LAST-MODIFIED:20260114T000000Z
LOCATION:Bologna
END:VEVENT
END:VCALENDAR