BEGIN:VCALENDAR
METHOD:PUBLISH
VERSION:2.0
PRODID:-//IGD//IGD//IT
BEGIN:VEVENT
SUMMARY:Board of Directors of 12 November 2026
UID:67714
DTSTART:20261112T090000Z
DTEND:20261112T090000Z
LAST-MODIFIED:20260114T000000Z
LOCATION:Bologna
END:VEVENT
END:VCALENDAR