BEGIN:VCALENDAR
METHOD:PUBLISH
VERSION:2.0
PRODID:-//IGD//IGD//IT
BEGIN:VEVENT
SUMMARY:Annual General Meeting of 16 April 2026 (first call)
UID:67706
DTSTART:20260415T220000Z
DTEND:20260415T220000Z
LAST-MODIFIED:20260316T000000Z
LOCATION:Bologna
END:VEVENT
END:VCALENDAR