BEGIN:VCALENDAR
METHOD:PUBLISH
VERSION:2.0
PRODID:-//IGD//IGD//IT
BEGIN:VEVENT
SUMMARY:Board of Directors of 26 February 2026
UID:67702
DTSTART:20260226T090000Z
DTEND:20260226T090000Z
LAST-MODIFIED:20260114T000000Z
LOCATION:Bologna
END:VEVENT
END:VCALENDAR