BEGIN:VCALENDAR
METHOD:PUBLISH
VERSION:2.0
PRODID:-//IGD//IGD//IT
BEGIN:VEVENT
SUMMARY:European Midcap Event
UID:66794
DTSTART:20251209T230000Z
DTEND:20251209T230000Z
LAST-MODIFIED:20251105T000000Z
LOCATION:Geneva
END:VEVENT
END:VCALENDAR