BEGIN:VCALENDAR
METHOD:PUBLISH
VERSION:2.0
PRODID:-//IGD//IGD//IT
BEGIN:VEVENT
SUMMARY:European Midcap Conference Virtual Roadshow
UID:66789
DTSTART:20251117T230000Z
DTEND:20251117T230000Z
LAST-MODIFIED:20251118T000000Z
LOCATION:
END:VEVENT
END:VCALENDAR