BEGIN:VCALENDAR
METHOD:PUBLISH
VERSION:2.0
PRODID:-//IGD//IGD//IT
BEGIN:VEVENT
SUMMARY:Conference call to present the results as at 30 September 2025 – dial-in details
UID:66782
DTSTART:20251110T230000Z
DTEND:20251110T230000Z
LAST-MODIFIED:20251111T000000Z
LOCATION:
END:VEVENT
END:VCALENDAR