BEGIN:VCALENDAR
METHOD:PUBLISH
VERSION:2.0
PRODID:-//IGD//IGD//IT
BEGIN:VEVENT
SUMMARY:Conference call to present the results as at 30 June 2025 – dial-in details
UID:65557
DTSTART:20250804T220000Z
DTEND:20250804T220000Z
LAST-MODIFIED:20250806T000000Z
LOCATION:
END:VEVENT
END:VCALENDAR