BEGIN:VCALENDAR
METHOD:PUBLISH
VERSION:2.0
PRODID:-//IGD//IGD//IT
BEGIN:VEVENT
SUMMARY:2025 Italian Excellences Mid Corporate Conference
UID:65552
DTSTART:20251013T220000Z
DTEND:20251013T220000Z
LAST-MODIFIED:20250724T000000Z
LOCATION:Paris
END:VEVENT
END:VCALENDAR